BEGIN:VCALENDAR
VERSION:2.0
PRODID:spatie/icalendar-generator
DESCRIPTION:Events from Bridge the gapp
X-WR-CALDESC:Events from Bridge the gapp
REFRESH-INTERVAL;VALUE=DURATION:PT1440M
X-PUBLISHED-TTL:PT1440M
BEGIN:VTIMEZONE
TZID:America/St_Johns
BEGIN:DAYLIGHT
DTSTART:20240310T020000Z
TZOFFSETFROM:-0400
TZOFFSETTO:-0300
END:DAYLIGHT
BEGIN:STANDARD
DTSTART:20241103T020000Z
TZOFFSETFROM:-0300
TZOFFSETTO:-0400
END:STANDARD
BEGIN:DAYLIGHT
DTSTART:20250309T020000Z
TZOFFSETFROM:-0400
TZOFFSETTO:-0300
END:DAYLIGHT
END:VTIMEZONE
BEGIN:VTIMEZONE
TZID:UTC
BEGIN:STANDARD
DTSTART:20250727T055823Z
TZOFFSETFROM:+0000
TZOFFSETTO:+0000
END:STANDARD
END:VTIMEZONE
BEGIN:VEVENT
UID:366-29
DTSTAMP:20260423T055823Z
SUMMARY:Anxiety Awareness Session
LOCATION:
ORGANIZER;CN=Byron.Boyd:MAILTO:Byron.Boyd@centralhealth.nl.ca
DTSTART;TZID=America/St_Johns:20241024T173000
DTEND;TZID=America/St_Johns:20241024T203000
X-ALT-DESC;FMTTYPE=TEXT/HTML:<p>This 3 hour session will provide an overvie
 w of:<br />\n*the role of thoughts\, body sensations and behaviors that ar
 e a part of the experience of anxiety<br />\n*strategies that can help man
 age and cope with the symptoms of anxiety</p>\n<p>This session will be hel
 pful for anyone seeking to gain information and to begin their recovery jo
 urney. Information will also be provided on additional options and resourc
 es available. </p>\n<p>The Anxiety Awareness Session will be offered on Th
 ursday October 24th from 5:30 pm - 8:30 pm Newfoundland time. Please email
  nlgroups@nlhealthservices.ca to get more information – Please indicate 
 which group you are connecting for in your subject line</p>\n
CATEGORIES:Eastern,  Western,  Central,  Labrador-Grenfell
URL;VALUE=URI:https://nl.bridgethegapp.ca/mc-events/anxiety-awareness-sessi
 on-2/
METHOD:PUBLISH
END:VEVENT
END:VCALENDAR