BEGIN:VCALENDAR
VERSION:2.0
PRODID:spatie/icalendar-generator
DESCRIPTION:Events from Bridge the gapp
X-WR-CALDESC:Events from Bridge the gapp
REFRESH-INTERVAL;VALUE=DURATION:PT1440M
X-PUBLISHED-TTL:PT1440M
BEGIN:VTIMEZONE
TZID:America/St_Johns
BEGIN:STANDARD
DTSTART:20231105T020000Z
TZOFFSETFROM:-0300
TZOFFSETTO:-0400
END:STANDARD
BEGIN:DAYLIGHT
DTSTART:20240310T020000Z
TZOFFSETFROM:-0400
TZOFFSETTO:-0300
END:DAYLIGHT
BEGIN:STANDARD
DTSTART:20241103T020000Z
TZOFFSETFROM:-0300
TZOFFSETTO:-0400
END:STANDARD
END:VTIMEZONE
BEGIN:VTIMEZONE
TZID:UTC
BEGIN:STANDARD
DTSTART:20250727T071258Z
TZOFFSETFROM:+0000
TZOFFSETTO:+0000
END:STANDARD
END:VTIMEZONE
BEGIN:VEVENT
UID:84-14
DTSTAMP:20260423T071258Z
SUMMARY:Depression Treatment Group
LOCATION:
ORGANIZER;CN=Byron.Boyd:MAILTO:Byron.Boyd@centralhealth.nl.ca
RRULE:FREQ=WEEKLY;UNTIL=20240619T000000Z
DTSTART;TZID=America/St_Johns:20240515T133000
DTEND;TZID=America/St_Johns:20240515T170000
X-ALT-DESC;FMTTYPE=TEXT/HTML:<p>This group is for adults (ages 18+) who are
  experiencing symptoms of depression. This 10 week group draws upon Cognit
 ive Behaviour Therapy (CBT)\, Acceptance and Commitment Therapy (ACT)\, an
 d Dialectical Behaviour Therapy (DBT) to understand and treat symptoms of 
 depression. This group explores the connection between our thoughts\, feel
 ings and behaviours\, and addresses each component of this interaction wit
 h skills and tools that are helpful in supporting recovery. It also looks 
 at triggers and causes of depression and how to address these factors. Thi
 s group is for people who are actively seeking to engage in the recovery p
 rocess\, and are willing to try to practice the skills taught in the group
  setting.</p>\n<p>The Depression Treatment Group will be offered on Wednes
 day’s – starting starting April 17th – June 19th\, 2024  (10 weeks) 
 from 1:30 pm -4:00 island time (1:00 pm -3:30 Labrador). Please email nlgr
 oups@nlhealthservices.ca to get more information. Please indicate which gr
 oup you are connecting for in your subject line.</p>\n
CATEGORIES:Eastern,  Western,  Central,  Labrador-Grenfell
URL;VALUE=URI:https://nl.bridgethegapp.ca/mc-events/depression-treatment-gr
 oup-2/?mc_id=84
METHOD:PUBLISH
END:VEVENT
END:VCALENDAR