BEGIN:VCALENDAR
VERSION:2.0
PRODID:spatie/icalendar-generator
DESCRIPTION:Events from Bridge the gapp
X-WR-CALDESC:Events from Bridge the gapp
REFRESH-INTERVAL;VALUE=DURATION:PT1440M
X-PUBLISHED-TTL:PT1440M
BEGIN:VTIMEZONE
TZID:America/St_Johns
BEGIN:STANDARD
DTSTART:20231105T020000Z
TZOFFSETFROM:-0300
TZOFFSETTO:-0400
END:STANDARD
BEGIN:DAYLIGHT
DTSTART:20240310T020000Z
TZOFFSETFROM:-0400
TZOFFSETTO:-0300
END:DAYLIGHT
BEGIN:STANDARD
DTSTART:20241103T020000Z
TZOFFSETFROM:-0300
TZOFFSETTO:-0400
END:STANDARD
END:VTIMEZONE
BEGIN:VTIMEZONE
TZID:UTC
BEGIN:STANDARD
DTSTART:20250727T003139Z
TZOFFSETFROM:+0000
TZOFFSETTO:+0000
END:STANDARD
END:VTIMEZONE
BEGIN:VEVENT
UID:77-13
DTSTAMP:20260423T003139Z
SUMMARY:Mental Health Skills and Recovery Group
LOCATION:
ORGANIZER;CN=Byron.Boyd:MAILTO:Byron.Boyd@centralhealth.nl.ca
RRULE:FREQ=WEEKLY;UNTIL=20240618T000000Z
DTSTART;TZID=America/St_Johns:20240528T180000
DTEND;TZID=America/St_Johns:20240528T203000
X-ALT-DESC;FMTTYPE=TEXT/HTML:<p>The Mental Health Skills and Recovery Group
  is 10 week group that is intended to support folks who are wanting to gai
 n more insight into their own experiences around mental health\; and to le
 arn skills to improve coping. This group provides a safe space for people 
 to connect with others who are also experiencing mental health issues. Str
 uggles can be related to things such as anxiety\, depression\, relationshi
 p issues\, stress\, self-esteem\, intense emotions\, or many other types o
 f mental health symptoms. A diagnosis is not necessary.</p>\n<p>The Mental
  Health Skills and Recovery Group will be offered on Thursday’s\, starti
 ng April 16th – June 18th\, 2024 (10 weeks) from 6 pm – 8:30 pm island
  time (5:30 pm – 8 pm Labrador). Please email nlgroups@nlhealthservices.
 ca to get more information – Please indicate which group you are connect
 ing for in your subject line</p>\n
CATEGORIES:Eastern,  Western,  Central,  Labrador-Grenfell
URL;VALUE=URI:https://nl.bridgethegapp.ca/mc-events/mental-health-skills-an
 d-recovery-group-2/?mc_id=77
METHOD:PUBLISH
END:VEVENT
END:VCALENDAR