BEGIN:VCALENDAR
VERSION:2.0
PRODID:spatie/icalendar-generator
DESCRIPTION:Events from Bridge the gapp
X-WR-CALDESC:Events from Bridge the gapp
REFRESH-INTERVAL;VALUE=DURATION:PT1440M
X-PUBLISHED-TTL:PT1440M
BEGIN:VTIMEZONE
TZID:America/St_Johns
BEGIN:DAYLIGHT
DTSTART:20250309T020000Z
TZOFFSETFROM:-0400
TZOFFSETTO:-0300
END:DAYLIGHT
BEGIN:STANDARD
DTSTART:20251102T020000Z
TZOFFSETFROM:-0300
TZOFFSETTO:-0400
END:STANDARD
END:VTIMEZONE
BEGIN:VTIMEZONE
TZID:UTC
BEGIN:STANDARD
DTSTART:20250725T184133Z
TZOFFSETFROM:+0000
TZOFFSETTO:+0000
END:STANDARD
END:VTIMEZONE
BEGIN:VEVENT
UID:463-42
DTSTAMP:20260421T184133Z
SUMMARY:Coping with Wildfires
LOCATION:
ORGANIZER;CN=Brittany Howell:MAILTO:BrittanyHowell@gov.nl.ca
RRULE:FREQ=DAILY;UNTIL=20250818T000000Z
DTSTART;TZID=America/St_Johns:20250816T103000
DTEND;TZID=America/St_Johns:20250816T120000
X-ALT-DESC;FMTTYPE=TEXT/HTML:The experience of past and current fires in ou
 r province are having a significant impact on many people\; those directly
  impacted by evacuation orders or evacuation alerts\, as well as others wh
 o are witnessing the events happening in our province. This can lead to fe
 elings of fear\, anxiety\, helplessness\, frustration and many other emoti
 ons. NL&amp;hellip\;
CATEGORIES:Central,  Eastern,  Western,  Labrador-Grenfell
URL;VALUE=URI:https://nl.bridgethegapp.ca/mc-events/coping-with-wildfires-3
 /?mc_id=463
METHOD:PUBLISH
END:VEVENT
END:VCALENDAR