BEGIN:VCALENDAR
VERSION:2.0
PRODID:spatie/icalendar-generator
DESCRIPTION:Events from Bridge the gapp
X-WR-CALDESC:Events from Bridge the gapp
REFRESH-INTERVAL;VALUE=DURATION:PT1440M
X-PUBLISHED-TTL:PT1440M
BEGIN:VTIMEZONE
TZID:America/St_Johns
BEGIN:STANDARD
DTSTART:20241103T020000Z
TZOFFSETFROM:-0300
TZOFFSETTO:-0400
END:STANDARD
BEGIN:DAYLIGHT
DTSTART:20250309T020000Z
TZOFFSETFROM:-0400
TZOFFSETTO:-0300
END:DAYLIGHT
BEGIN:STANDARD
DTSTART:20251102T020000Z
TZOFFSETFROM:-0300
TZOFFSETTO:-0400
END:STANDARD
END:VTIMEZONE
BEGIN:VTIMEZONE
TZID:UTC
BEGIN:STANDARD
DTSTART:20250725T230612Z
TZOFFSETFROM:+0000
TZOFFSETTO:+0000
END:STANDARD
END:VTIMEZONE
BEGIN:VEVENT
UID:442-39
DTSTAMP:20260421T230612Z
SUMMARY:Webinar: Strongest Families Institute – Promoting Family Mental W
 ellness
LOCATION:
ORGANIZER;CN=Connie Linstead:MAILTO:connie.linstead@nlchi.nl.ca
DTSTART;TZID=America/St_Johns:20250506T140000
DTEND;TZID=America/St_Johns:20250506T153000
X-ALT-DESC;FMTTYPE=TEXT/HTML:<p>Discover the incredible support available t
 hrough the Strongest Families Institute! Join us for an engaging session t
 o explore who they are\, how their referral process works\, and the impact
 ful programs they offer—including those focused on behaviour\, anxiety &amp;
 amp\; depression\, and nighttime bedwetting. You’ll also get an inside l
 ook at their exciting new program adaptation\, Parents Empowering Neurodiv
 erse Kids. Learn who can benefit most from these services and how families
  can access the help they need. </p>\n<p>Katryna Guitar is the Senior Fiel
 d and Outreach Manager at the Strongest Families Institute\, with over a d
 ecade of experience with the organization she specializes in the programs 
 Strongest Families has to offer and in community engagement and strategic 
 outreach.</p>\n<p><a class="btn btn-default" href="https://register.got
 owebinar.com/register/766572257156574293">Register Here</a></p>\n
CATEGORIES:Eastern,  Western,  Central,  Labrador-Grenfell
URL;VALUE=URI:https://nl.bridgethegapp.ca/mc-events/webinar-strongest-famil
 ies-institute-promoting-family-mental-wellness/
METHOD:PUBLISH
END:VEVENT
END:VCALENDAR