BEGIN:VCALENDAR
VERSION:2.0
PRODID:spatie/icalendar-generator
DESCRIPTION:Events from Bridge the gapp
X-WR-CALDESC:Events from Bridge the gapp
REFRESH-INTERVAL;VALUE=DURATION:PT1440M
X-PUBLISHED-TTL:PT1440M
BEGIN:VTIMEZONE
TZID:America/St_Johns
BEGIN:STANDARD
DTSTART:20241103T020000Z
TZOFFSETFROM:-0300
TZOFFSETTO:-0400
END:STANDARD
BEGIN:DAYLIGHT
DTSTART:20250309T020000Z
TZOFFSETFROM:-0400
TZOFFSETTO:-0300
END:DAYLIGHT
BEGIN:STANDARD
DTSTART:20251102T020000Z
TZOFFSETFROM:-0300
TZOFFSETTO:-0400
END:STANDARD
END:VTIMEZONE
BEGIN:VTIMEZONE
TZID:UTC
BEGIN:STANDARD
DTSTART:20250725T183738Z
TZOFFSETFROM:+0000
TZOFFSETTO:+0000
END:STANDARD
END:VTIMEZONE
BEGIN:VEVENT
UID:437-36
DTSTAMP:20260421T183738Z
SUMMARY:Bereavement Education Session
LOCATION:
ORGANIZER;CN=Connie Linstead:MAILTO:connie.linstead@nlchi.nl.ca
RRULE:FREQ=MONTHLY;BYDAY=2TU;UNTIL=20251104T000000Z
DTSTART;TZID=America/St_Johns:20250708T183000
DTEND;TZID=America/St_Johns:20250708T200000
X-ALT-DESC;FMTTYPE=TEXT/HTML:<p>This provincial virtual education session i
 s for adults (ages 18+) who are experiencing grief due to death. These ses
 sions will provide information on understanding grief\, guide you through 
 the grieving process\, and give suggestions on what you can do to help you
 rself and others during this time of grief. The session will include a pre
 sentation\, videos and opportunity for discussion or to ask questions abou
 t grief. These sessions are free and open to the general public.<br />\nTh
 e monthly schedule is as follows:<br />\nTuesday\, February 11th\, 6:30pm-
 8:00pm island time (6:00pm-7:30pm Labrador)<br />\nTuesday\, March 11th\, 
 6:30pm-8:00pm island time (6:00pm-7:30pm Labrador)<br />\nTuesday\, April 
 8th\, 6:30pm-8:00pm island time (6:00pm-7:30pm Labrador)<br />\nTuesday\, 
 May 13th\, 6:30pm-8:00pm island time (6:00pm-7:30pm Labrador)<br />\nTuesd
 ay\, June 10th\, 6:30pm-8:00pm island time (6:00pm-7:30pm Labrador)<br />\
 nTuesday\, July 8th\, 6:30pm-8:00pm island time (6:00pm-7:30pm Labrador)<b />\nTuesday\, August 12th\, 6:30pm-8:00pm island time (6:00pm-7:30pm Lab
 rador)<br />\nTuesday\, September 9th\, 6:30pm-8:00pm island time (6:00pm-
 7:30pm Labrador)<br />\nTuesday\, October 14th\, 6:30pm-8:00pm island time
  (6:00pm-7:30pm Labrador)</p>\n<p>These virtual education sessions will be
  offered the second Tuesday of each month and will be held from 6:30pm-8:0
 0pm island time (6:00 pm – 7:30 pm Labrador). Please email griefandberea
 vement@nlhealthservices.ca to get more information.<br />\nNovember and De
 cember<br />\nGrieving: Coping with the Holidays<br />\nPlease email grief
 andbereavement@nlhealthservices.ca to get more information.</p>\n
CATEGORIES:Eastern,  Western,  Central,  Labrador-Grenfell
URL;VALUE=URI:https://nl.bridgethegapp.ca/mc-events/bereavement-education-s
 ession-2/?mc_id=437
METHOD:PUBLISH
END:VEVENT
END:VCALENDAR