BEGIN:VCALENDAR
VERSION:2.0
PRODID:spatie/icalendar-generator
DESCRIPTION:Events from Bridge the gapp
X-WR-CALDESC:Events from Bridge the gapp
REFRESH-INTERVAL;VALUE=DURATION:PT1440M
X-PUBLISHED-TTL:PT1440M
BEGIN:VTIMEZONE
TZID:America/St_Johns
BEGIN:STANDARD
DTSTART:20241103T020000Z
TZOFFSETFROM:-0300
TZOFFSETTO:-0400
END:STANDARD
BEGIN:DAYLIGHT
DTSTART:20250309T020000Z
TZOFFSETFROM:-0400
TZOFFSETTO:-0300
END:DAYLIGHT
END:VTIMEZONE
BEGIN:VTIMEZONE
TZID:UTC
BEGIN:STANDARD
DTSTART:20250725T230531Z
TZOFFSETFROM:+0000
TZOFFSETTO:+0000
END:STANDARD
END:VTIMEZONE
BEGIN:VEVENT
UID:422-35
DTSTAMP:20260421T230531Z
SUMMARY:DBT Skills Group
LOCATION:
ORGANIZER;CN=Byron.Boyd:MAILTO:Byron.Boyd@centralhealth.nl.ca
RRULE:FREQ=WEEKLY;UNTIL=20250422T000000Z
DTSTART;TZID=America/St_Johns:20250211T130000
DTEND;TZID=America/St_Johns:20250211T153000
X-ALT-DESC;FMTTYPE=TEXT/HTML:<p>This group is for adults (ages 18+) who are
  experiencing difficulty in managing intense emotions\, difficulties in th
 eir relationships\, and overall struggles in day-to-day life. Over the cou
 rse of this 12 week group participants will have the opportunity to learn 
 and practice the skills of Dialectical Behaviour Therapy (DBT)\, which has
  been shown to be effective in addressing many mental health issues.  This
  group is a safe space for all to connect and gain tools to improve their 
 mental health. </p>\n<p>Participants in this group will be required to do 
 weekly practice\, and regular attendance is required. </p>\n<p>The DBT Ski
 lls Group will be offered on Tuesday’s starting February 4\, 2025 to Apr
 il 22\, 2025 from 1:30 pm - 4:00 pm island time (1:00 pm – 3:30 pm Labra
 dor). Please email nlgroups@nlhealthservices.ca to get more information 
 – Please indicate which group you are connecting for in your subject lin
 e.</p>\n
CATEGORIES:Eastern,  Western,  Central,  Labrador-Grenfell
URL;VALUE=URI:https://nl.bridgethegapp.ca/mc-events/dbt-skills-group-2/?mc_
 id=422
METHOD:PUBLISH
END:VEVENT
END:VCALENDAR