BEGIN:VCALENDAR
VERSION:2.0
PRODID:spatie/icalendar-generator
DESCRIPTION:Events from Bridge the gapp
X-WR-CALDESC:Events from Bridge the gapp
REFRESH-INTERVAL;VALUE=DURATION:PT1440M
X-PUBLISHED-TTL:PT1440M
BEGIN:VTIMEZONE
TZID:America/St_Johns
BEGIN:STANDARD
DTSTART:20241103T020000Z
TZOFFSETFROM:-0300
TZOFFSETTO:-0400
END:STANDARD
BEGIN:DAYLIGHT
DTSTART:20250309T020000Z
TZOFFSETFROM:-0400
TZOFFSETTO:-0300
END:DAYLIGHT
END:VTIMEZONE
BEGIN:VTIMEZONE
TZID:UTC
BEGIN:STANDARD
DTSTART:20250726T014805Z
TZOFFSETFROM:+0000
TZOFFSETTO:+0000
END:STANDARD
END:VTIMEZONE
BEGIN:VEVENT
UID:367-24
DTSTAMP:20260422T014805Z
SUMMARY:Family Matters
LOCATION:
ORGANIZER;CN=Byron.Boyd:MAILTO:Byron.Boyd@centralhealth.nl.ca
RRULE:FREQ=WEEKLY;UNTIL=20250326T000000Z
DTSTART;TZID=America/St_Johns:20250122T133000
DTEND;TZID=America/St_Johns:20250122T153000
X-ALT-DESC;FMTTYPE=TEXT/HTML:<p>This 10 week group is for people who have a
  loved one with living with mental health issues &amp;amp\;/or addictions. Whe
 n living with\, or supporting\, a loved one who is struggling it can also 
 impact you. This group creates a safe space to connect with others who can
  understand the impacts. You will also be supported by skilled Mental Heal
 th Clinicians who will provide information\, tools and resources to help y
 ou take care of yourself. </p>\n<p>This group will be held on Wednesdays f
 rom 1:30-3:30 (island time)\,  from January 22 - March 26\, 2025. Please e
 mail nlgroups@nlhealthservices.ca to get more information – Please indic
 ate which group you are connecting for in your subject line.</p>\n
CATEGORIES:Eastern,  Western,  Central,  Labrador-Grenfell
URL;VALUE=URI:https://nl.bridgethegapp.ca/mc-events/family-matters/?mc_id=3
 67
METHOD:PUBLISH
END:VEVENT
END:VCALENDAR