BEGIN:VCALENDAR
VERSION:2.0
PRODID:spatie/icalendar-generator
DESCRIPTION:Events from Bridge the gapp
X-WR-CALDESC:Events from Bridge the gapp
REFRESH-INTERVAL;VALUE=DURATION:PT1440M
X-PUBLISHED-TTL:PT1440M
BEGIN:VTIMEZONE
TZID:America/St_Johns
BEGIN:STANDARD
DTSTART:20241103T020000Z
TZOFFSETFROM:-0300
TZOFFSETTO:-0400
END:STANDARD
BEGIN:DAYLIGHT
DTSTART:20250309T020000Z
TZOFFSETFROM:-0400
TZOFFSETTO:-0300
END:DAYLIGHT
END:VTIMEZONE
BEGIN:VTIMEZONE
TZID:UTC
BEGIN:STANDARD
DTSTART:20250726T223841Z
TZOFFSETFROM:+0000
TZOFFSETTO:+0000
END:STANDARD
END:VTIMEZONE
BEGIN:VEVENT
UID:348-21
DTSTAMP:20260422T223841Z
SUMMARY:Mental Health Group
LOCATION:
ORGANIZER;CN=Byron.Boyd:MAILTO:Byron.Boyd@centralhealth.nl.ca
RRULE:FREQ=WEEKLY;UNTIL=20250205T000000Z
DTSTART;TZID=America/St_Johns:20241218T180000
DTEND;TZID=America/St_Johns:20241218T203000
X-ALT-DESC;FMTTYPE=TEXT/HTML:<p>The Mental Health Group is 10 week group th
 at is intended to support folks who are wanting to gain more insight into 
 their own experiences around mental health\; and to learn skills to improv
 e coping. This group provides a safe space for people to connect with othe
 rs who are also experiencing mental health issues. Struggles can be relate
 d to things such as anxiety\, depression\, relationship issues\, stress\, 
 self-esteem\, intense emotions\, or many other types of mental health symp
 toms. A diagnosis is not necessary.</p>\n<p>The Mental Health Group will b
 e offered on Wednesday's\, starting November 13th\, 2024 – February 5th\
 , 2025 from 6 pm – 8:30 pm island time (5:30 pm – 8 pm Labrador). Plea
 se email nlgroups@nlhealthservices.ca to get more information – Please i
 ndicate which group you are connecting for in your subject line</p>\n
CATEGORIES:Eastern,  Western,  Central,  Labrador-Grenfell
URL;VALUE=URI:https://nl.bridgethegapp.ca/mc-events/mental-health-group/?mc
 _id=348
METHOD:PUBLISH
END:VEVENT
END:VCALENDAR