BEGIN:VCALENDAR
VERSION:2.0
PRODID:spatie/icalendar-generator
DESCRIPTION:Events from Bridge the gapp
X-WR-CALDESC:Events from Bridge the gapp
REFRESH-INTERVAL;VALUE=DURATION:PT1440M
X-PUBLISHED-TTL:PT1440M
BEGIN:VTIMEZONE
TZID:America/St_Johns
BEGIN:STANDARD
DTSTART:20241103T020000Z
TZOFFSETFROM:-0300
TZOFFSETTO:-0400
END:STANDARD
BEGIN:DAYLIGHT
DTSTART:20250309T020000Z
TZOFFSETFROM:-0400
TZOFFSETTO:-0300
END:DAYLIGHT
END:VTIMEZONE
BEGIN:VTIMEZONE
TZID:UTC
BEGIN:STANDARD
DTSTART:20250726T015520Z
TZOFFSETFROM:+0000
TZOFFSETTO:+0000
END:STANDARD
END:VTIMEZONE
BEGIN:VEVENT
UID:344-27
DTSTAMP:20260422T015520Z
SUMMARY:Gender Journey's Group
LOCATION:
ORGANIZER;CN=Byron.Boyd:MAILTO:Byron.Boyd@centralhealth.nl.ca
RRULE:FREQ=WEEKLY;UNTIL=20250130T000000Z
DTSTART;TZID=America/St_Johns:20250116T180000
DTEND;TZID=America/St_Johns:20250116T210000
X-ALT-DESC;FMTTYPE=TEXT/HTML:<p>The Gender Journey’s Group main goal is t
 o create a safe space to explore Gender Identify and Gender Expression. We
  hope that at the end of this group folks will feel a part of a larger com
 munity\, have more comfort and clarity around their own identity\, and fee
 l supported to live their life in the way that feels most comfortable with
  them. As the name of the group indicates\, we are not trying to arrive at
  a specific outcome or “destination” that is the same for everybody\, 
 we are embracing the journey for each individual. This group is a partners
 hip between NL Health Services\, Quadrangle NL and Lifewise.</p>\n<p>Topic
 s are provided as a way to guide exploration\, and to share information th
 at may be helpful in this exploration. However\, topics and weekly agenda
 ’s can be modified to fit the needs of each unique group composition. A 
 sample outline for the group is as follows:</p>\n<p>Week 1 – Creating a 
 Safe Space and Exploring Hopes and Fears<br />\nWeek 2 – Exploring Gende
 r Identity Within our Current Society<br />\nWeek 3 – Exploring Options 
 for “Coming Out”<br />\nWeek 4 – Gender Play (Exploring Possibilitie
 s)<br />\nWeek 5 – Gender Play (Exploring Possibilities)<br />\nWeek 6 
 – Exploring Options Around Physical Transitioning<br />\nWeek 7 – Expl
 oring Relationships (Family and Dating)<br />\nWeek 8 – Self Care and Me
 ntal Health<br />\nWeek 9 – Moving Forward and Closure</p>\n<p>The Gende
 r Journey’s Group will be offered virtually on Thursday’s starting Nov
 ember 14\, 2024 from 6:00 pm – 8:00 island time (5:30 pm – 7:30 Labrad
 or time). The group will run for sessions with 2 weeks off for Christmas.<br />\nPlease email nlgroups@nlhealthservices.ca to get more information 
 – Please indicate which group you are connecting for in your subject lin
 e.</p>\n
CATEGORIES:Eastern,  Western,  Central,  Labrador-Grenfell
URL;VALUE=URI:https://nl.bridgethegapp.ca/mc-events/gender-journeys-group-2
 /?mc_id=344
METHOD:PUBLISH
END:VEVENT
END:VCALENDAR