BEGIN:VCALENDAR
VERSION:2.0
PRODID:spatie/icalendar-generator
DESCRIPTION:Events from Bridge the gapp
X-WR-CALDESC:Events from Bridge the gapp
REFRESH-INTERVAL;VALUE=DURATION:PT1440M
X-PUBLISHED-TTL:PT1440M
BEGIN:VTIMEZONE
TZID:America/St_Johns
BEGIN:DAYLIGHT
DTSTART:20240310T020000Z
TZOFFSETFROM:-0400
TZOFFSETTO:-0300
END:DAYLIGHT
BEGIN:STANDARD
DTSTART:20241103T020000Z
TZOFFSETFROM:-0300
TZOFFSETTO:-0400
END:STANDARD
BEGIN:DAYLIGHT
DTSTART:20250309T020000Z
TZOFFSETFROM:-0400
TZOFFSETTO:-0300
END:DAYLIGHT
END:VTIMEZONE
BEGIN:VTIMEZONE
TZID:UTC
BEGIN:STANDARD
DTSTART:20250727T070734Z
TZOFFSETFROM:+0000
TZOFFSETTO:+0000
END:STANDARD
END:VTIMEZONE
BEGIN:VEVENT
UID:285-7
DTSTAMP:20260423T070734Z
SUMMARY:Anxiety Treatment Group
LOCATION:
ORGANIZER;CN=Byron.Boyd:MAILTO:Byron.Boyd@centralhealth.nl.ca
RRULE:FREQ=WEEKLY;UNTIL=20241212T000000Z
DTSTART;TZID=America/St_Johns:20241024T093000
DTEND;TZID=America/St_Johns:20241024T120000
X-ALT-DESC;FMTTYPE=TEXT/HTML:<p>This group is for adults (ages 18+) who are
  experiencing symptoms of anxiety. This 10 week group draws upon Cognitive
  Behaviour Therapy (CBT)\, Acceptance and Commitment Therapy (ACT)\, and D
 ialectical Behaviour Therapy (DBT) to understand and treat symptoms of anx
 iety. This group explores the connection between our thoughts\, feelings a
 nd behaviours and addresses each component of this interaction with skills
  and tools that are helpful in supporting recovery. It also looks at trigg
 ers and causes of anxiety and how to address these factors. This group is 
 for people who are actively seeking to engage in the recovery process\, an
 d are willing to try to practice the skills taught in the group setting.</
 p>\n<p>The Anxiety Treatment Group will be offered on Thursday’s startin
 g October 10\, 2024 to December 12\, 2024 and will be held at 9:30 am – 
 12:00 noon island time (9:00 am – 11:30 am Labrador). Please email nlgro
 ups@nlhealthservices.ca to get more information – Please indicate which 
 group you are connecting for in your subject line.</p>\n
CATEGORIES:Eastern,  Western,  Central,  Labrador-Grenfell
URL;VALUE=URI:https://nl.bridgethegapp.ca/mc-events/anxiety-treatment-group
 /?mc_id=285
METHOD:PUBLISH
END:VEVENT
END:VCALENDAR