BEGIN:VCALENDAR
VERSION:2.0
PRODID:spatie/icalendar-generator
DESCRIPTION:Events from Bridge the gapp
X-WR-CALDESC:Events from Bridge the gapp
REFRESH-INTERVAL;VALUE=DURATION:PT1440M
X-PUBLISHED-TTL:PT1440M
BEGIN:VTIMEZONE
TZID:America/St_Johns
BEGIN:DAYLIGHT
DTSTART:20240310T020000Z
TZOFFSETFROM:-0400
TZOFFSETTO:-0300
END:DAYLIGHT
BEGIN:STANDARD
DTSTART:20241103T020000Z
TZOFFSETFROM:-0300
TZOFFSETTO:-0400
END:STANDARD
BEGIN:DAYLIGHT
DTSTART:20250309T020000Z
TZOFFSETFROM:-0400
TZOFFSETTO:-0300
END:DAYLIGHT
END:VTIMEZONE
BEGIN:VTIMEZONE
TZID:UTC
BEGIN:STANDARD
DTSTART:20250726T224036Z
TZOFFSETFROM:+0000
TZOFFSETTO:+0000
END:STANDARD
END:VTIMEZONE
BEGIN:VEVENT
UID:267-23
DTSTAMP:20260422T224036Z
SUMMARY:Addictions Drop-in Group
LOCATION:
ORGANIZER;CN=Byron.Boyd:MAILTO:Byron.Boyd@centralhealth.nl.ca
RRULE:FREQ=WEEKLY;UNTIL=20241217T000000Z
DTSTART;TZID=America/St_Johns:20241126T180000
DTEND;TZID=America/St_Johns:20241126T193000
X-ALT-DESC;FMTTYPE=TEXT/HTML:<p>Have you experienced problems with alcohol\
 , drug use or gambling? Would you like to connect with others who are in v
 arious stages of recovery? This group is for the person who is just starti
 ng out in looking at their substance use or gambling\, or the person who h
 as been making changes and is seeking some supports to continue.</p>\n<p>T
 he Addictions Drop-In Group is available to provide a safe space to connec
 t\, learn\, and grow\; with skilled Clinicians providing support and guida
 nce to the process. This group is available for people who may not need\, 
 or cannot commit to\, weekly attendance (however weekly attendance is also
  an option). It is also available for those who may be interested in explo
 ring harm reduction options. The only commitment required is that you are 
 clean on the day you attend group. </p>\n<p>The addictions Drop-In Group i
 s available virtually through zoom on Tuesdays from 6-7:30 pm (island time
 ). This is an ongoing group that can be joined at any time. For more infor
 mation\, or to sign up email addictionsgroups@easternhealth.ca</p>\n
CATEGORIES:Eastern,  Western,  Central,  Labrador-Grenfell
URL;VALUE=URI:https://nl.bridgethegapp.ca/mc-events/addictions-drop-in-grou
 p/?mc_id=267
METHOD:PUBLISH
END:VEVENT
END:VCALENDAR