BEGIN:VCALENDAR
VERSION:2.0
PRODID:spatie/icalendar-generator
DESCRIPTION:Events from Bridge the gapp
X-WR-CALDESC:Events from Bridge the gapp
REFRESH-INTERVAL;VALUE=DURATION:PT1440M
X-PUBLISHED-TTL:PT1440M
BEGIN:VTIMEZONE
TZID:America/St_Johns
BEGIN:DAYLIGHT
DTSTART:20240310T020000Z
TZOFFSETFROM:-0400
TZOFFSETTO:-0300
END:DAYLIGHT
BEGIN:STANDARD
DTSTART:20241103T020000Z
TZOFFSETFROM:-0300
TZOFFSETTO:-0400
END:STANDARD
BEGIN:DAYLIGHT
DTSTART:20250309T020000Z
TZOFFSETFROM:-0400
TZOFFSETTO:-0300
END:DAYLIGHT
END:VTIMEZONE
BEGIN:VTIMEZONE
TZID:UTC
BEGIN:STANDARD
DTSTART:20250727T000144Z
TZOFFSETFROM:+0000
TZOFFSETTO:+0000
END:STANDARD
END:VTIMEZONE
BEGIN:VEVENT
UID:252-22
DTSTAMP:20260423T000144Z
SUMMARY:Addictions Early Recovery Group
LOCATION:
ORGANIZER;CN=Byron.Boyd:MAILTO:Byron.Boyd@centralhealth.nl.ca
RRULE:FREQ=WEEKLY;UNTIL=20241218T000000Z
DTSTART;TZID=America/St_Johns:20241127T133000
DTEND;TZID=America/St_Johns:20241127T153000
X-ALT-DESC;FMTTYPE=TEXT/HTML:<p>Alcohol\, drug use and gambling can impact 
 a person’s life in all areas\, when it is no longer social. Sometimes pe
 ople have tried to stop\, or make changes on their own\, but have not been
  able to keep the changes going. Reaching out for help can be the first st
 ep needed to start the recovery process. The Addictions Early Recovery Gro
 up is available to help people who are working toward an abstinence based 
 recovery. </p>\n<p>This group is for people who are in the early stages of
  making changes and looking at how to live their life alcohol\, drug &amp;amp\
 ;/or gambling free. Complete abstinence is not required to join\, but peop
 le are working toward an addiction free life. Support will be provided by 
 Clinicians of NL Health Services to group members to explore their use\, s
 et goals\, and to gain skills to make changes in their life. This is a saf
 e\, non-judgmental space.</p>\n<p>This is an open group that people can jo
 in at any time. Weekly attendance is encouraged. This group will be held o
 n Wednesdays from 1:30-3:30 (island time).  Please email nlgroups@nlhealth
 services.ca  to get more information – Please indicate which group you a
 re connecting for in your subject line.</p>\n
CATEGORIES:Eastern,  Western,  Central,  Labrador-Grenfell
URL;VALUE=URI:https://nl.bridgethegapp.ca/mc-events/addictions-early-recove
 ry-group/?mc_id=252
METHOD:PUBLISH
END:VEVENT
END:VCALENDAR