BEGIN:VCALENDAR
VERSION:2.0
PRODID:spatie/icalendar-generator
DESCRIPTION:Events from Bridge the gapp
X-WR-CALDESC:Events from Bridge the gapp
REFRESH-INTERVAL;VALUE=DURATION:PT1440M
X-PUBLISHED-TTL:PT1440M
BEGIN:VTIMEZONE
TZID:America/St_Johns
BEGIN:STANDARD
DTSTART:20241103T020000Z
TZOFFSETFROM:-0300
TZOFFSETTO:-0400
END:STANDARD
BEGIN:DAYLIGHT
DTSTART:20250309T020000Z
TZOFFSETFROM:-0400
TZOFFSETTO:-0300
END:DAYLIGHT
END:VTIMEZONE
BEGIN:VTIMEZONE
TZID:UTC
BEGIN:STANDARD
DTSTART:20250727T000318Z
TZOFFSETFROM:+0000
TZOFFSETTO:+0000
END:STANDARD
END:VTIMEZONE
BEGIN:VEVENT
UID:224-12
DTSTAMP:20260423T000318Z
SUMMARY:Mental Health Drop-in Group
LOCATION:
ORGANIZER;CN=Byron.Boyd:MAILTO:Byron.Boyd@centralhealth.nl.ca
RRULE:FREQ=WEEKLY;UNTIL=20241231T000000Z
DTSTART;TZID=America/St_Johns:20241217T173000
DTEND;TZID=America/St_Johns:20241217T190000
X-ALT-DESC;FMTTYPE=TEXT/HTML:<p>This drop-in group is available to any resi
 dents of Newfoundland and Labrador\, age 18+. This group aims to provide a
  safe space for individuals to meet and explore topics related to their me
 ntal health. Group topics can vary from week to week\, based on the needs 
 and interests of those present. This drop-in group can be attended as need
 ed and sign up is ongoing. There is no obligation to commit to regular att
 endance for this group (however weekly attendance is also welcome). Facili
 tators are trained mental health clinicians from NL Health Services.</p>\n
 <p>The Mental Health Drop-in Group will be offered on Tuesday’s – star
 ting January 19th from 5:30 pm – 7 island time (5 pm – 6:30 Labrador).
 <br />\nPlease email nlgroups@nlhealthservices.ca to get more information.
  Please indicate which group you are connecting for in your subject line.</p>\n
CATEGORIES:Eastern,  Western,  Central,  Labrador-Grenfell
URL;VALUE=URI:https://nl.bridgethegapp.ca/mc-events/mental-health-drop-in-g
 roup/?mc_id=224
METHOD:PUBLISH
END:VEVENT
END:VCALENDAR