BEGIN:VCALENDAR
VERSION:2.0
PRODID:spatie/icalendar-generator
DESCRIPTION:Events from Bridge the gapp
X-WR-CALDESC:Events from Bridge the gapp
REFRESH-INTERVAL;VALUE=DURATION:PT1440M
X-PUBLISHED-TTL:PT1440M
BEGIN:VTIMEZONE
TZID:America/St_Johns
BEGIN:STANDARD
DTSTART:20231105T020000Z
TZOFFSETFROM:-0300
TZOFFSETTO:-0400
END:STANDARD
BEGIN:DAYLIGHT
DTSTART:20240310T020000Z
TZOFFSETFROM:-0400
TZOFFSETTO:-0300
END:DAYLIGHT
END:VTIMEZONE
BEGIN:VTIMEZONE
TZID:UTC
BEGIN:STANDARD
DTSTART:20250726T060217Z
TZOFFSETFROM:+0000
TZOFFSETTO:+0000
END:STANDARD
END:VTIMEZONE
BEGIN:VEVENT
UID:22-8
DTSTAMP:20260422T060217Z
SUMMARY:Gender Journey's Group
LOCATION:
ORGANIZER;CN=Byron.Boyd:MAILTO:Byron.Boyd@centralhealth.nl.ca
RRULE:FREQ=WEEKLY;UNTIL=20240312T000000Z
DTSTART;TZID=America/St_Johns:20240305T180000
DTEND;TZID=America/St_Johns:20240305T200000
X-ALT-DESC;FMTTYPE=TEXT/HTML:<p>The Gender Journey’s Group main goal is t
 o create a safe space to explore Gender Identify and Gender Expression. We
  hope that at the end of this group folks will feel a part of a larger com
 munity\, have more comfort and clarity around their own identity\, and fee
 l supported to live their life in the way that feels most comfortable with
  them. As the name of the group indicates\, we are not trying to arrive at
  a specific outcome or “destination” that is the same for everybody\, 
 we are embracing the journey for each individual. This group is a partners
 hip between NL Health Services\, Quadrangle NL and Lifewise.</p>\n<p>The G
 ender Journey’s Group will be offered virtually on Tuesday’s starting 
 January 16th – March 12th\, 2024 (9 weeks) from 6:00 pm – 8:00 island 
 time (5:30 pm – 7:30 Labrador time). Please email nlgroups@nlhealthservi
 ces.ca to get more information – Please indicate which group you are con
 necting for in your subject line.</p>\n
CATEGORIES:Eastern,  Western,  Central,  Labrador-Grenfell
URL;VALUE=URI:https://nl.bridgethegapp.ca/mc-events/gender-journeys-group/?
 mc_id=22
METHOD:PUBLISH
END:VEVENT
END:VCALENDAR