BEGIN:VCALENDAR
VERSION:2.0
PRODID:spatie/icalendar-generator
DESCRIPTION:Events from Bridge the gapp
X-WR-CALDESC:Events from Bridge the gapp
REFRESH-INTERVAL;VALUE=DURATION:PT1440M
X-PUBLISHED-TTL:PT1440M
BEGIN:VTIMEZONE
TZID:America/St_Johns
BEGIN:STANDARD
DTSTART:20231105T020000Z
TZOFFSETFROM:-0300
TZOFFSETTO:-0400
END:STANDARD
BEGIN:DAYLIGHT
DTSTART:20240310T020000Z
TZOFFSETFROM:-0400
TZOFFSETTO:-0300
END:DAYLIGHT
BEGIN:STANDARD
DTSTART:20241103T020000Z
TZOFFSETFROM:-0300
TZOFFSETTO:-0400
END:STANDARD
END:VTIMEZONE
BEGIN:VTIMEZONE
TZID:UTC
BEGIN:STANDARD
DTSTART:20250726T224942Z
TZOFFSETFROM:+0000
TZOFFSETTO:+0000
END:STANDARD
END:VTIMEZONE
BEGIN:VEVENT
UID:157-19
DTSTAMP:20260422T224942Z
SUMMARY:Wellness Wednesday’s
LOCATION:
ORGANIZER;CN=Byron.Boyd:MAILTO:Byron.Boyd@centralhealth.nl.ca
RRULE:FREQ=WEEKLY;UNTIL=20241218T000000Z
DTSTART;TZID=America/St_Johns:20240703T180000
DTEND;TZID=America/St_Johns:20240703T200000
X-ALT-DESC;FMTTYPE=TEXT/HTML:<p>We would like to invite you to take part in
  our Wellness Wednesday’s. Wellness Wednesdays provide the opportunity f
 or all residents of the province (age 18+) to learn information\, and tool
 s\, to support good mental health. These sessions are offered by local men
 tal health staff who are a part of the Mental Health Program of NL Health 
 Services. Each week there will be a different topic of learning. People ca
 n attend one week\, or as many as they like. </p>\n<p>*What these sessions
  are for:<br />\nSometimes we can get overwhelmed looking for the right in
 formation to help us improve our mental health. Sometimes we have not had 
 the opportunity to access information and learn effective skills. These se
 ssions will provide a safe\, low barrier way to access information that is
  effective and relevant to you. Sessions will be offered by zoom so that p
 eople can access them from the comfort of their own home\, no matter where
  they live in the province. </p>\n<p>*How it works:<br />\nEmail nlgroups@
 nlhealthservices.ca to register to get the zoom link (you need to register
  prior to 3:00 on the day of the session you wish to attend).<br />\nWhen 
 emailing please indicate the date you are seeking to register for.<br />\n
 Sessions are free.<br />\nPeople are encouraged to turn their camera on\, 
 but it is not mandatory (you also do not need to provide your name when at
 tending).<br />\nIf you have any requests or suggestions for additional to
 pics please feel free to let us know. Future sessions to be announced.</p>
 \n
CATEGORIES:Eastern,  Western,  Central,  Labrador-Grenfell
URL;VALUE=URI:https://nl.bridgethegapp.ca/mc-events/wellness-wednesdays/?mc
 _id=157
METHOD:PUBLISH
END:VEVENT
END:VCALENDAR